BEGIN:VCALENDAR
VERSION:2.0
PRODID:-//Theater Heilbronn//NONSGML//DE
CALSCALE:GREGORIAN
BEGIN:VEVENT
UID:344669e9d90b31f1c
DTSTART:20240409T193000
DTSTAMP:20240409T193000
CREATED:20260423T103211
DESCRIPTION:
LAST-MODIFIED:20240409T193000
LOCATION:Theater Heilbronn \nGroßes Haus \nBerliner Platz 1 \n74072 Heilbronn
SUMMARY:Ab in den Schrank
URL;VALUE=URI:http://www.theater-heilbronn.de/programm/schauspiel/stueck-detail.php?SID=693
SEQUENCE:0
STATUS:CONFIRMED
TRANSP:OPAQUE
END:VEVENT
END:VCALENDAR