BEGIN:VCALENDAR
VERSION:2.0
PRODID:-//Theater Heilbronn//NONSGML//DE
CALSCALE:GREGORIAN
BEGIN:VEVENT
UID:70669e9db32afcbc
DTSTART:20240410T193000
DTSTAMP:20240410T193000
CREATED:20260423T104122
DESCRIPTION:
LAST-MODIFIED:20240410T193000
LOCATION:Theater Heilbronn \nGroßes Haus \nBerliner Platz 1 \n74072 Heilbronn
SUMMARY:Wie werde ich reich und glücklich?
URL;VALUE=URI:http://www.theater-heilbronn.de/programm/musiktheater/stueck-detail.php?SID=699
SEQUENCE:0
STATUS:CONFIRMED
TRANSP:OPAQUE
END:VEVENT
END:VCALENDAR