BEGIN:VCALENDAR
VERSION:2.0
PRODID:-//Theater Heilbronn//NONSGML//DE
CALSCALE:GREGORIAN
BEGIN:VEVENT
UID:30069eccc871b3f2
DTSTART:20260712T160000
DTSTAMP:20260712T160000
CREATED:20260425T161535
DESCRIPTION:
LAST-MODIFIED:20260712T160000
LOCATION:Theater Heilbronn \nSchnawwl \nBerliner Platz 1 \n74072 Heilbronn
SUMMARY:Findus und der Hahn im Korb
URL;VALUE=URI:http://www.theater-heilbronn.de/programm/junges-theater/stueck-detail.php?SID=938
SEQUENCE:0
STATUS:CONFIRMED
TRANSP:OPAQUE
END:VEVENT
END:VCALENDAR