BEGIN:VCALENDAR
VERSION:2.0
PRODID:-//Theater Heilbronn//NONSGML//DE
CALSCALE:GREGORIAN
BEGIN:VEVENT
UID:498569ed5483ebd08
DTSTART:20260427T110000
DTSTAMP:20260427T110000
CREATED:20260426T015547
DESCRIPTION:
LAST-MODIFIED:20260427T110000
LOCATION:Theater Heilbronn \nSchnawwl \nBerliner Platz 1 \n74072 Heilbronn
SUMMARY:Der Markisenmann (UA)
URL;VALUE=URI:http://www.theater-heilbronn.de/programm/junges-theater/stueck-detail.php?SID=935
SEQUENCE:0
STATUS:CONFIRMED
TRANSP:OPAQUE
END:VEVENT
END:VCALENDAR