BEGIN:VCALENDAR
VERSION:2.0
PRODID:-//Theater Heilbronn//NONSGML//DE
CALSCALE:GREGORIAN
BEGIN:VEVENT
UID:221469ed757ae2a6f
DTSTART:20260613T100000
DTEND:20260613T130000
DTSTAMP:20260613T100000
CREATED:20260426T041626
DESCRIPTION:
LAST-MODIFIED:20260613T100000
LOCATION:Theater Heilbronn \nKomödienhaus Foyer \n \n 
SUMMARY:Alltagsferne Bewegungen und Begegnungen
URL;VALUE=URI:http://www.theater-heilbronn.de/programm/tanz-heilbronn/stueck-detail.php?SID=1016
SEQUENCE:0
STATUS:CONFIRMED
TRANSP:OPAQUE
END:VEVENT
END:VCALENDAR